BEGIN:VCALENDAR
VERSION:2.0
PRODID:-//www.thearcofsomerset.org//NONSGML kigkonsult.se iCalcreator 2.30.
 10//
CALSCALE:GREGORIAN
METHOD:PUBLISH
UID:b6548217-0491-4c28-a42c-b737ee018b2d
X-WR-CALDESC:
X-WR-RELCALID:73c8da8f79d43b9aff9f2dc73c730c70
X-WR-TIMEZONE:America/New_York
BEGIN:VTIMEZONE
TZID:America/New_York
BEGIN:STANDARD
TZNAME:EST
DTSTART:20201101T020000
TZOFFSETFROM:-0400
TZOFFSETTO:-0500
RDATE:20211107T020000
RDATE:20221106T020000
END:STANDARD
BEGIN:DAYLIGHT
TZNAME:EDT
DTSTART:20210314T020000
TZOFFSETFROM:-0500
TZOFFSETTO:-0400
RDATE:20220313T020000
RDATE:20230312T020000
END:DAYLIGHT
END:VTIMEZONE
BEGIN:VEVENT
UID:91f664dd-6d57-4f61-b747-0ac6e105c642
DTSTAMP:20260425T152522Z
DESCRIPTION:
DTSTART;TZID=America/New_York:20210929T100000
DTEND;TZID=America/New_York:20210929T103000
LOCATION:
SUMMARY:10:00-10:30: Literacy Class – all welcome
END:VEVENT
END:VCALENDAR
