BEGIN:VCALENDAR
VERSION:2.0
PRODID:-//www.thearcofsomerset.org//NONSGML kigkonsult.se iCalcreator 2.30.
 10//
CALSCALE:GREGORIAN
METHOD:PUBLISH
UID:671fc4ac-8b67-4809-b7c1-01b983dba452
X-WR-CALDESC:
X-WR-RELCALID:6c83bffb877a513c2d7d1cba87413f43
X-WR-TIMEZONE:America/New_York
BEGIN:VTIMEZONE
TZID:America/New_York
BEGIN:STANDARD
TZNAME:EST
DTSTART:20201101T020000
TZOFFSETFROM:-0400
TZOFFSETTO:-0500
RDATE:20211107T020000
RDATE:20221106T020000
END:STANDARD
BEGIN:DAYLIGHT
TZNAME:EDT
DTSTART:20210314T020000
TZOFFSETFROM:-0500
TZOFFSETTO:-0400
RDATE:20220313T020000
RDATE:20230312T020000
END:DAYLIGHT
END:VTIMEZONE
BEGIN:VEVENT
UID:f932dffb-f7ba-4ab0-a781-50ec7c876f70
DTSTAMP:20260425T152624Z
DESCRIPTION:
DTSTART;TZID=America/New_York:20210929T111500
DTEND;TZID=America/New_York:20210929T114500
LOCATION:
SUMMARY:11:15-11:45: Literacy Class – all welcome
END:VEVENT
END:VCALENDAR
