BEGIN:VCALENDAR
VERSION:2.0
PRODID:-//www.thearcofsomerset.org//NONSGML kigkonsult.se iCalcreator 2.30.
 10//
CALSCALE:GREGORIAN
METHOD:PUBLISH
UID:72b05d9e-4b8d-44a9-9b31-46e62fb41180
X-WR-CALDESC:Outside at JCATC & virtual: Tommy Strazza
X-WR-RELCALID:8e766745f982600af8df9fa8d6a95a53
X-WR-TIMEZONE:America/New_York
BEGIN:VTIMEZONE
TZID:America/New_York
BEGIN:STANDARD
TZNAME:EST
DTSTART:20201101T020000
TZOFFSETFROM:-0400
TZOFFSETTO:-0500
RDATE:20211107T020000
RDATE:20221106T020000
END:STANDARD
BEGIN:DAYLIGHT
TZNAME:EDT
DTSTART:20210314T020000
TZOFFSETFROM:-0500
TZOFFSETTO:-0400
RDATE:20220313T020000
RDATE:20230312T020000
END:DAYLIGHT
END:VTIMEZONE
BEGIN:VEVENT
UID:07206536-78b1-489b-b7fb-405e08f926f3
DTSTAMP:20260425T152753Z
DESCRIPTION:Outside at JCATC & virtual: Tommy Strazza
DTSTART;TZID=America/New_York:20210930T130000
DTEND;TZID=America/New_York:20210930T133000
LOCATION:
SUMMARY:1:00-1:30: Music for Hope & Inspiration
END:VEVENT
END:VCALENDAR
