BEGIN:VCALENDAR
VERSION:2.0
PRODID:-//www.thearcofsomerset.org//NONSGML kigkonsult.se iCalcreator 2.30.
 10//
CALSCALE:GREGORIAN
METHOD:PUBLISH
UID:d34a35ef-6cb2-4145-ac36-4722e9f2f088
X-WR-CALDESC:Friday\, October 1\n10:00-10:45: BINGO with Mary – all welcome
 \n
X-WR-RELCALID:b4829ebcfff484781134460e047f2102
X-WR-TIMEZONE:America/New_York
BEGIN:VTIMEZONE
TZID:America/New_York
BEGIN:STANDARD
TZNAME:EST
DTSTART:20201101T020000
TZOFFSETFROM:-0400
TZOFFSETTO:-0500
RDATE:20211107T020000
RDATE:20221106T020000
END:STANDARD
BEGIN:DAYLIGHT
TZNAME:EDT
DTSTART:20210314T020000
TZOFFSETFROM:-0500
TZOFFSETTO:-0400
RDATE:20220313T020000
RDATE:20230312T020000
END:DAYLIGHT
END:VTIMEZONE
BEGIN:VEVENT
UID:9e81f3db-e228-4944-899b-e62c9abd14a8
DTSTAMP:20260425T135316Z
DESCRIPTION:Friday\, October 1\n10:00-10:45: BINGO with Mary – all welcome
 \n
DTSTART;TZID=America/New_York:20211001T100000
DTEND;TZID=America/New_York:20211001T104500
LOCATION:
SUMMARY:BINGO with Mary
END:VEVENT
END:VCALENDAR
