BEGIN:VCALENDAR
VERSION:2.0
PRODID:-//www.thearcofsomerset.org//NONSGML kigkonsult.se iCalcreator 2.30.
 10//
CALSCALE:GREGORIAN
METHOD:PUBLISH
UID:c3b153f6-d2a0-4138-a85a-b0e13f48e6d6
X-WR-CALDESC:Monday\, October 4\n10:00-10:45: BINGO with Mary – all welcome
 \n
X-WR-RELCALID:3af4973bb98b60faa3c962814954c528
X-WR-TIMEZONE:America/New_York
BEGIN:VTIMEZONE
TZID:America/New_York
BEGIN:STANDARD
TZNAME:EST
DTSTART:20201101T020000
TZOFFSETFROM:-0400
TZOFFSETTO:-0500
RDATE:20211107T020000
RDATE:20221106T020000
END:STANDARD
BEGIN:DAYLIGHT
TZNAME:EDT
DTSTART:20210314T020000
TZOFFSETFROM:-0500
TZOFFSETTO:-0400
RDATE:20220313T020000
RDATE:20230312T020000
END:DAYLIGHT
END:VTIMEZONE
BEGIN:VEVENT
UID:4a9c2437-95f5-4a1c-bf8b-7e869fef577a
DTSTAMP:20260425T133706Z
DESCRIPTION:Monday\, October 4\n10:00-10:45: BINGO with Mary – all welcome
 \n
DTSTART;TZID=America/New_York:20211004T100000
DTEND;TZID=America/New_York:20211004T104500
LOCATION:
SUMMARY:BINGO with Mary
END:VEVENT
END:VCALENDAR
