BEGIN:VCALENDAR
VERSION:2.0
PRODID:-//www.thearcofsomerset.org//NONSGML kigkonsult.se iCalcreator 2.30.
 10//
CALSCALE:GREGORIAN
METHOD:PUBLISH
UID:54b5c5b0-5130-4d4f-bf87-083342820e1a
X-WR-CALDESC:11:15-11:45: Stressbusters \n                      \n
X-WR-RELCALID:817c7825b9feb77c32de607d8a5c383e
X-WR-TIMEZONE:America/New_York
BEGIN:VTIMEZONE
TZID:America/New_York
BEGIN:STANDARD
TZNAME:EST
DTSTART:20201101T020000
TZOFFSETFROM:-0400
TZOFFSETTO:-0500
RDATE:20211107T020000
RDATE:20221106T020000
END:STANDARD
BEGIN:DAYLIGHT
TZNAME:EDT
DTSTART:20210314T020000
TZOFFSETFROM:-0500
TZOFFSETTO:-0400
RDATE:20220313T020000
RDATE:20230312T020000
END:DAYLIGHT
END:VTIMEZONE
BEGIN:VEVENT
UID:ad356c1e-ee3f-454f-b92d-7a33d51bbbcb
DTSTAMP:20260425T133520Z
DESCRIPTION:11:15-11:45: Stressbusters \n                      \n
DTSTART;TZID=America/New_York:20211004T111500
DTEND;TZID=America/New_York:20211004T124500
LOCATION:
SUMMARY:Stressbusters
END:VEVENT
END:VCALENDAR
