BEGIN:VCALENDAR
VERSION:2.0
PRODID:-//www.thearcofsomerset.org//NONSGML kigkonsult.se iCalcreator 2.30.
 10//
CALSCALE:GREGORIAN
METHOD:PUBLISH
UID:9b34e896-4afd-4d58-b66f-e1425dc54faa
X-WR-CALDESC:3:30-4:00: Shooting the Breeze with Friends
X-WR-RELCALID:53c811ce9faf31da647b71715ed28260
X-WR-TIMEZONE:America/New_York
BEGIN:VTIMEZONE
TZID:America/New_York
BEGIN:STANDARD
TZNAME:EST
DTSTART:20201101T020000
TZOFFSETFROM:-0400
TZOFFSETTO:-0500
RDATE:20211107T020000
RDATE:20221106T020000
END:STANDARD
BEGIN:DAYLIGHT
TZNAME:EDT
DTSTART:20210314T020000
TZOFFSETFROM:-0500
TZOFFSETTO:-0400
RDATE:20220313T020000
RDATE:20230312T020000
END:DAYLIGHT
END:VTIMEZONE
BEGIN:VEVENT
UID:400449fb-a363-4ad3-94c7-7953f097c2d2
DTSTAMP:20260425T135226Z
DESCRIPTION:3:30-4:00: Shooting the Breeze with Friends
DTSTART;TZID=America/New_York:20211005T153000
DTEND;TZID=America/New_York:20211005T160000
LOCATION:
SUMMARY:Shooting the Breeze with Friends
END:VEVENT
END:VCALENDAR
