BEGIN:VCALENDAR
VERSION:2.0
PRODID:-//www.thearcofsomerset.org//NONSGML kigkonsult.se iCalcreator 2.30.
 10//
CALSCALE:GREGORIAN
METHOD:PUBLISH
UID:019f542a-2e2d-4418-9b82-07cc78ec114f
X-WR-CALDESC:11:15-11:45: Literacy Class – all welcome
X-WR-RELCALID:b118706da288c77d46b31f5c2d1170b0
X-WR-TIMEZONE:America/New_York
BEGIN:VTIMEZONE
TZID:America/New_York
BEGIN:STANDARD
TZNAME:EST
DTSTART:20201101T020000
TZOFFSETFROM:-0400
TZOFFSETTO:-0500
RDATE:20211107T020000
RDATE:20221106T020000
END:STANDARD
BEGIN:DAYLIGHT
TZNAME:EDT
DTSTART:20210314T020000
TZOFFSETFROM:-0500
TZOFFSETTO:-0400
RDATE:20220313T020000
RDATE:20230312T020000
END:DAYLIGHT
END:VTIMEZONE
BEGIN:VEVENT
UID:19a5d6a0-2e71-46c7-8293-2350b64e0782
DTSTAMP:20260425T133718Z
DESCRIPTION:11:15-11:45: Literacy Class – all welcome
DTSTART;TZID=America/New_York:20211006T111500
DTEND;TZID=America/New_York:20211006T234500
LOCATION:
SUMMARY:Literacy Class – all welcome
END:VEVENT
END:VCALENDAR
