BEGIN:VCALENDAR
VERSION:2.0
PRODID:-//www.thearcofsomerset.org//NONSGML kigkonsult.se iCalcreator 2.30.
 10//
CALSCALE:GREGORIAN
METHOD:PUBLISH
UID:f2645121-9b1c-4299-be8e-805a59c22498
X-WR-CALDESC:10:00-10:30: Literacy Class – all welcome
X-WR-RELCALID:db885c15864ad2ce402fadc1c34c672f
X-WR-TIMEZONE:America/New_York
BEGIN:VTIMEZONE
TZID:America/New_York
BEGIN:STANDARD
TZNAME:EST
DTSTART:20201101T020000
TZOFFSETFROM:-0400
TZOFFSETTO:-0500
RDATE:20211107T020000
RDATE:20221106T020000
END:STANDARD
BEGIN:DAYLIGHT
TZNAME:EDT
DTSTART:20210314T020000
TZOFFSETFROM:-0500
TZOFFSETTO:-0400
RDATE:20220313T020000
RDATE:20230312T020000
END:DAYLIGHT
END:VTIMEZONE
BEGIN:VEVENT
UID:7503d657-e88b-42bc-8170-465d70cc655d
DTSTAMP:20260425T133542Z
DESCRIPTION:10:00-10:30: Literacy Class – all welcome
DTSTART;TZID=America/New_York:20211006T100000
DTEND;TZID=America/New_York:20211006T103000
LOCATION:
SUMMARY:Literacy Class
END:VEVENT
END:VCALENDAR
