BEGIN:VCALENDAR
VERSION:2.0
PRODID:-//www.thearcofsomerset.org//NONSGML kigkonsult.se iCalcreator 2.30.
 10//
CALSCALE:GREGORIAN
METHOD:PUBLISH
UID:91f45858-93c9-4a42-80d5-7b45aba47f88
X-WR-CALDESC:
X-WR-RELCALID:8a2bd9b60e1514d59a74257a8585dfce
X-WR-TIMEZONE:America/New_York
BEGIN:VTIMEZONE
TZID:America/New_York
BEGIN:STANDARD
TZNAME:EST
DTSTART:20201101T020000
TZOFFSETFROM:-0400
TZOFFSETTO:-0500
RDATE:20211107T020000
RDATE:20221106T020000
END:STANDARD
BEGIN:DAYLIGHT
TZNAME:EDT
DTSTART:20210314T020000
TZOFFSETFROM:-0500
TZOFFSETTO:-0400
RDATE:20220313T020000
RDATE:20230312T020000
END:DAYLIGHT
END:VTIMEZONE
BEGIN:VEVENT
UID:20029af5-7502-4e1b-a5ea-51eb8a7d3593
DTSTAMP:20260425T133541Z
DESCRIPTION:
DTSTART;TZID=America/New_York:20211007T111500
DTEND;TZID=America/New_York:20211007T114500
LOCATION:
SUMMARY:Literacy Class – all welcome
END:VEVENT
END:VCALENDAR
