BEGIN:VCALENDAR
VERSION:2.0
PRODID:-//www.thearcofsomerset.org//NONSGML kigkonsult.se iCalcreator 2.30.
 10//
CALSCALE:GREGORIAN
METHOD:PUBLISH
UID:7579ad10-2d80-476d-8e84-950aa7bf728e
X-WR-CALDESC:
X-WR-RELCALID:ccacc1c0bc537b55db09cd4f8fa0cf58
X-WR-TIMEZONE:America/New_York
BEGIN:VTIMEZONE
TZID:America/New_York
BEGIN:STANDARD
TZNAME:EST
DTSTART:20201101T020000
TZOFFSETFROM:-0400
TZOFFSETTO:-0500
RDATE:20211107T020000
RDATE:20221106T020000
END:STANDARD
BEGIN:DAYLIGHT
TZNAME:EDT
DTSTART:20210314T020000
TZOFFSETFROM:-0500
TZOFFSETTO:-0400
RDATE:20220313T020000
RDATE:20230312T020000
END:DAYLIGHT
END:VTIMEZONE
BEGIN:VEVENT
UID:d30106fa-309b-4d5d-a8f3-bf5720dc7877
DTSTAMP:20260425T134835Z
DESCRIPTION:
DTSTART;TZID=America/New_York:20211011T100000
DTEND;TZID=America/New_York:20211011T104500
LOCATION:
SUMMARY:BINGO with Mary – all welcome
END:VEVENT
END:VCALENDAR
