BEGIN:VCALENDAR
VERSION:2.0
PRODID:-//www.thearcofsomerset.org//NONSGML kigkonsult.se iCalcreator 2.30.
 10//
CALSCALE:GREGORIAN
METHOD:PUBLISH
UID:b94d7881-9d23-4925-b12c-617fc6476e6a
X-WR-CALDESC:
X-WR-RELCALID:6fc15aab0a14d042247e3121dffb8016
X-WR-TIMEZONE:America/New_York
BEGIN:VTIMEZONE
TZID:America/New_York
BEGIN:STANDARD
TZNAME:EST
DTSTART:20201101T020000
TZOFFSETFROM:-0400
TZOFFSETTO:-0500
RDATE:20211107T020000
RDATE:20221106T020000
END:STANDARD
BEGIN:DAYLIGHT
TZNAME:EDT
DTSTART:20210314T020000
TZOFFSETFROM:-0500
TZOFFSETTO:-0400
RDATE:20220313T020000
RDATE:20230312T020000
END:DAYLIGHT
END:VTIMEZONE
BEGIN:VEVENT
UID:48052f35-9d79-46cf-a637-362119d53294
DTSTAMP:20260425T133412Z
DESCRIPTION:
DTSTART;TZID=America/New_York:20211011T111500
DTEND;TZID=America/New_York:20211011T114500
LOCATION:
SUMMARY:Stressbusters
END:VEVENT
END:VCALENDAR
