BEGIN:VCALENDAR
VERSION:2.0
PRODID:-//www.thearcofsomerset.org//NONSGML kigkonsult.se iCalcreator 2.30.
 10//
CALSCALE:GREGORIAN
METHOD:PUBLISH
UID:6da0ec34-d1e7-4aff-8d2c-ceb3749c0ded
X-WR-CALDESC:
X-WR-RELCALID:ec9bb21d466cb52cecff3d6b6e28e13b
X-WR-TIMEZONE:America/New_York
BEGIN:VTIMEZONE
TZID:America/New_York
BEGIN:STANDARD
TZNAME:EST
DTSTART:20201101T020000
TZOFFSETFROM:-0400
TZOFFSETTO:-0500
RDATE:20211107T020000
RDATE:20221106T020000
END:STANDARD
BEGIN:DAYLIGHT
TZNAME:EDT
DTSTART:20210314T020000
TZOFFSETFROM:-0500
TZOFFSETTO:-0400
RDATE:20220313T020000
RDATE:20230312T020000
END:DAYLIGHT
END:VTIMEZONE
BEGIN:VEVENT
UID:b332b84d-1fbd-476b-8957-459e113dd3ce
DTSTAMP:20260425T134930Z
DESCRIPTION:
DTSTART;TZID=America/New_York:20211012T153000
DTEND;TZID=America/New_York:20211012T160000
LOCATION:
SUMMARY:Shooting the Breeze with Friends
END:VEVENT
END:VCALENDAR
