BEGIN:VCALENDAR
VERSION:2.0
PRODID:-//www.thearcofsomerset.org//NONSGML kigkonsult.se iCalcreator 2.30.
 10//
CALSCALE:GREGORIAN
METHOD:PUBLISH
UID:f4426007-4dba-4b77-aa4d-03da4df8df7f
X-WR-CALDESC:
X-WR-RELCALID:e7a9adfb765aadc539d30a8b8bbce7bb
X-WR-TIMEZONE:America/New_York
BEGIN:VTIMEZONE
TZID:America/New_York
BEGIN:STANDARD
TZNAME:EST
DTSTART:20201101T020000
TZOFFSETFROM:-0400
TZOFFSETTO:-0500
RDATE:20211107T020000
RDATE:20221106T020000
END:STANDARD
BEGIN:DAYLIGHT
TZNAME:EDT
DTSTART:20210314T020000
TZOFFSETFROM:-0500
TZOFFSETTO:-0400
RDATE:20220313T020000
RDATE:20230312T020000
END:DAYLIGHT
END:VTIMEZONE
BEGIN:VEVENT
UID:708b0765-5540-4ddb-9a4b-86906e49e2c0
DTSTAMP:20260425T133712Z
DESCRIPTION:
DTSTART;TZID=America/New_York:20211014T111500
DTEND;TZID=America/New_York:20211014T114500
LOCATION:
SUMMARY:Literacy Class – all welcome
END:VEVENT
END:VCALENDAR
