BEGIN:VCALENDAR
VERSION:2.0
PRODID:-//www.thearcofsomerset.org//NONSGML kigkonsult.se iCalcreator 2.30.
 10//
CALSCALE:GREGORIAN
METHOD:PUBLISH
UID:e0b7fad7-04e9-4e75-94cf-b083a0447e13
X-WR-CALDESC:
X-WR-RELCALID:fff2ea635593ece2bdf78bead09b3d2e
X-WR-TIMEZONE:America/New_York
BEGIN:VTIMEZONE
TZID:America/New_York
BEGIN:STANDARD
TZNAME:EST
DTSTART:20201101T020000
TZOFFSETFROM:-0400
TZOFFSETTO:-0500
RDATE:20211107T020000
RDATE:20221106T020000
END:STANDARD
BEGIN:DAYLIGHT
TZNAME:EDT
DTSTART:20210314T020000
TZOFFSETFROM:-0500
TZOFFSETTO:-0400
RDATE:20220313T020000
RDATE:20230312T020000
END:DAYLIGHT
END:VTIMEZONE
BEGIN:VEVENT
UID:9f5ca629-2bbd-4a34-9c29-0f612b379359
DTSTAMP:20260425T135032Z
DESCRIPTION:
DTSTART;TZID=America/New_York:20211018T100000
DTEND;TZID=America/New_York:20211018T104500
LOCATION:
SUMMARY:BINGO with Mary – all welcome
END:VEVENT
END:VCALENDAR
