BEGIN:VCALENDAR
VERSION:2.0
PRODID:-//www.thearcofsomerset.org//NONSGML kigkonsult.se iCalcreator 2.30.
 10//
CALSCALE:GREGORIAN
METHOD:PUBLISH
UID:045f5f83-3f21-46dc-9424-e9abf5b4b081
X-WR-CALDESC:
X-WR-RELCALID:bcc1950a87f9624dce78492ce24fbc56
X-WR-TIMEZONE:America/New_York
BEGIN:VTIMEZONE
TZID:America/New_York
BEGIN:STANDARD
TZNAME:EST
DTSTART:20201101T020000
TZOFFSETFROM:-0400
TZOFFSETTO:-0500
RDATE:20211107T020000
RDATE:20221106T020000
END:STANDARD
BEGIN:DAYLIGHT
TZNAME:EDT
DTSTART:20210314T020000
TZOFFSETFROM:-0500
TZOFFSETTO:-0400
RDATE:20220313T020000
RDATE:20230312T020000
END:DAYLIGHT
END:VTIMEZONE
BEGIN:VEVENT
UID:23a2cc61-4013-47fb-a1d2-20c7d1118e76
DTSTAMP:20260425T133519Z
DESCRIPTION:
DTSTART;TZID=America/New_York:20211018T111500
DTEND;TZID=America/New_York:20211018T114500
LOCATION:
SUMMARY:Stressbusters
END:VEVENT
END:VCALENDAR
