BEGIN:VCALENDAR
VERSION:2.0
PRODID:-//www.thearcofsomerset.org//NONSGML kigkonsult.se iCalcreator 2.30.
 10//
CALSCALE:GREGORIAN
METHOD:PUBLISH
UID:1a8e3854-9089-4978-aff4-cadb630e9327
X-WR-CALDESC:
X-WR-RELCALID:2f36cee0707484af8119163a35ad1b9f
X-WR-TIMEZONE:America/New_York
BEGIN:VTIMEZONE
TZID:America/New_York
BEGIN:STANDARD
TZNAME:EST
DTSTART:20201101T020000
TZOFFSETFROM:-0400
TZOFFSETTO:-0500
RDATE:20211107T020000
RDATE:20221106T020000
END:STANDARD
BEGIN:DAYLIGHT
TZNAME:EDT
DTSTART:20210314T020000
TZOFFSETFROM:-0500
TZOFFSETTO:-0400
RDATE:20220313T020000
RDATE:20230312T020000
END:DAYLIGHT
END:VTIMEZONE
BEGIN:VEVENT
UID:a4cd93b5-6868-44fc-830a-f3ff7a8f5688
DTSTAMP:20260425T134905Z
DESCRIPTION:
DTSTART;TZID=America/New_York:20211018T130000
DTEND;TZID=America/New_York:20211018T133000
LOCATION:
SUMMARY:Yoga with Jane
END:VEVENT
END:VCALENDAR
