BEGIN:VCALENDAR
VERSION:2.0
PRODID:-//www.thearcofsomerset.org//NONSGML kigkonsult.se iCalcreator 2.30.
 10//
CALSCALE:GREGORIAN
METHOD:PUBLISH
UID:9544f19f-d226-41fb-a1d0-0aa514afce86
X-WR-CALDESC:
X-WR-RELCALID:2a53b6a3b6b9806fcfb52b6a1364b0a6
X-WR-TIMEZONE:America/New_York
BEGIN:VTIMEZONE
TZID:America/New_York
BEGIN:STANDARD
TZNAME:EST
DTSTART:20201101T020000
TZOFFSETFROM:-0400
TZOFFSETTO:-0500
RDATE:20211107T020000
RDATE:20221106T020000
END:STANDARD
BEGIN:DAYLIGHT
TZNAME:EDT
DTSTART:20210314T020000
TZOFFSETFROM:-0500
TZOFFSETTO:-0400
RDATE:20220313T020000
RDATE:20230312T020000
END:DAYLIGHT
END:VTIMEZONE
BEGIN:VEVENT
UID:e7d884b8-e42e-416b-8b88-b1dd15c7d2e3
DTSTAMP:20260425T140240Z
DESCRIPTION:
DTSTART;TZID=America/New_York:20211019T130000
DTEND;TZID=America/New_York:20211019T133000
LOCATION:
SUMMARY:Music for Hope & Inspiration: At Jill Court & Virtual - Coffeehouse
  Project
END:VEVENT
END:VCALENDAR
