BEGIN:VCALENDAR
VERSION:2.0
PRODID:-//www.thearcofsomerset.org//NONSGML kigkonsult.se iCalcreator 2.30.
 10//
CALSCALE:GREGORIAN
METHOD:PUBLISH
UID:d2124971-47e5-4e80-a3b9-8f02cc18b53d
X-WR-CALDESC:
X-WR-RELCALID:020850a891a38eec7d3c0f0e37c19212
X-WR-TIMEZONE:America/New_York
BEGIN:VTIMEZONE
TZID:America/New_York
BEGIN:STANDARD
TZNAME:EST
DTSTART:20201101T020000
TZOFFSETFROM:-0400
TZOFFSETTO:-0500
RDATE:20211107T020000
RDATE:20221106T020000
END:STANDARD
BEGIN:DAYLIGHT
TZNAME:EDT
DTSTART:20210314T020000
TZOFFSETFROM:-0500
TZOFFSETTO:-0400
RDATE:20220313T020000
RDATE:20230312T020000
END:DAYLIGHT
END:VTIMEZONE
BEGIN:VEVENT
UID:1d663de2-b9a9-4462-a6d8-4322b63a84dd
DTSTAMP:20260425T133713Z
DESCRIPTION:
DTSTART;TZID=America/New_York:20211020T100000
DTEND;TZID=America/New_York:20211020T103000
LOCATION:
SUMMARY:Literacy Class – all welcome
END:VEVENT
END:VCALENDAR
