BEGIN:VCALENDAR
VERSION:2.0
PRODID:-//www.thearcofsomerset.org//NONSGML kigkonsult.se iCalcreator 2.30.
 10//
CALSCALE:GREGORIAN
METHOD:PUBLISH
UID:a0bafd6b-b43c-4d48-8f7b-701de6be1f6f
X-WR-CALDESC:
X-WR-RELCALID:1c18c9f83444fda0e3b6cfa9a3298648
X-WR-TIMEZONE:America/New_York
BEGIN:VTIMEZONE
TZID:America/New_York
BEGIN:STANDARD
TZNAME:EST
DTSTART:20201101T020000
TZOFFSETFROM:-0400
TZOFFSETTO:-0500
RDATE:20211107T020000
RDATE:20221106T020000
END:STANDARD
BEGIN:DAYLIGHT
TZNAME:EDT
DTSTART:20210314T020000
TZOFFSETFROM:-0500
TZOFFSETTO:-0400
RDATE:20220313T020000
RDATE:20230312T020000
END:DAYLIGHT
END:VTIMEZONE
BEGIN:VEVENT
UID:0726bc92-72b2-4a05-ae13-8720c4672aaa
DTSTAMP:20260425T133519Z
DESCRIPTION:
DTSTART;TZID=America/New_York:20211021T111500
DTEND;TZID=America/New_York:20211021T114500
LOCATION:
SUMMARY:Literacy Class – all welcome
END:VEVENT
END:VCALENDAR
