BEGIN:VCALENDAR
VERSION:2.0
PRODID:-//www.thearcofsomerset.org//NONSGML kigkonsult.se iCalcreator 2.30.
 10//
CALSCALE:GREGORIAN
METHOD:PUBLISH
UID:ec65a42b-7daf-49db-8c3f-b6c366958dfa
X-WR-CALDESC:
X-WR-RELCALID:8a8bc740c47d8b55b1c43d03eb8ff989
X-WR-TIMEZONE:America/New_York
BEGIN:VTIMEZONE
TZID:America/New_York
BEGIN:STANDARD
TZNAME:EST
DTSTART:20201101T020000
TZOFFSETFROM:-0400
TZOFFSETTO:-0500
RDATE:20211107T020000
RDATE:20221106T020000
END:STANDARD
BEGIN:DAYLIGHT
TZNAME:EDT
DTSTART:20210314T020000
TZOFFSETFROM:-0500
TZOFFSETTO:-0400
RDATE:20220313T020000
RDATE:20230312T020000
END:DAYLIGHT
END:VTIMEZONE
BEGIN:VEVENT
UID:ef3ba9ef-2a8c-4a04-8532-5632b99e9c2c
DTSTAMP:20260425T133835Z
DESCRIPTION:
DTSTART;TZID=America/New_York:20211025T100000
DTEND;TZID=America/New_York:20211025T104500
LOCATION:
SUMMARY:BINGO with Mary – all welcome
END:VEVENT
END:VCALENDAR
