BEGIN:VCALENDAR
VERSION:2.0
PRODID:-//www.thearcofsomerset.org//NONSGML kigkonsult.se iCalcreator 2.30.
 10//
CALSCALE:GREGORIAN
METHOD:PUBLISH
UID:77fccca0-2f68-435d-aed8-7b31677086fb
X-WR-CALDESC:
X-WR-RELCALID:9f2e885da7c8aa7d49ee2bc3135d35b3
X-WR-TIMEZONE:America/New_York
BEGIN:VTIMEZONE
TZID:America/New_York
BEGIN:STANDARD
TZNAME:EST
DTSTART:20201101T020000
TZOFFSETFROM:-0400
TZOFFSETTO:-0500
RDATE:20211107T020000
RDATE:20221106T020000
END:STANDARD
BEGIN:DAYLIGHT
TZNAME:EDT
DTSTART:20210314T020000
TZOFFSETFROM:-0500
TZOFFSETTO:-0400
RDATE:20220313T020000
RDATE:20230312T020000
END:DAYLIGHT
END:VTIMEZONE
BEGIN:VEVENT
UID:b1a45e47-2e3a-4c2c-868a-17dc24254172
DTSTAMP:20260425T140143Z
DESCRIPTION:
DTSTART;TZID=America/New_York:20211026T130000
DTEND;TZID=America/New_York:20211026T133000
LOCATION:
SUMMARY:Music for Hope & Inspiration: At Jill Court & Virtual - Vinnie
END:VEVENT
END:VCALENDAR
