BEGIN:VCALENDAR
VERSION:2.0
PRODID:-//www.thearcofsomerset.org//NONSGML kigkonsult.se iCalcreator 2.30.
 10//
CALSCALE:GREGORIAN
METHOD:PUBLISH
UID:cf27ed2d-403a-4563-80e1-6aa34dc8f301
X-WR-CALDESC:
X-WR-RELCALID:c311bf78f2a6bc22780d21c602f9c538
X-WR-TIMEZONE:America/New_York
BEGIN:VTIMEZONE
TZID:America/New_York
BEGIN:STANDARD
TZNAME:EST
DTSTART:20201101T020000
TZOFFSETFROM:-0400
TZOFFSETTO:-0500
RDATE:20211107T020000
RDATE:20221106T020000
END:STANDARD
BEGIN:DAYLIGHT
TZNAME:EDT
DTSTART:20210314T020000
TZOFFSETFROM:-0500
TZOFFSETTO:-0400
RDATE:20220313T020000
RDATE:20230312T020000
END:DAYLIGHT
END:VTIMEZONE
BEGIN:VEVENT
UID:fcf53701-bb48-4639-a2d5-b5f3b98fe78c
DTSTAMP:20260425T134604Z
DESCRIPTION:
DTSTART;TZID=America/New_York:20211029T100000
DTEND;TZID=America/New_York:20211029T104500
LOCATION:
SUMMARY:BINGO with Mary – all welcome
END:VEVENT
END:VCALENDAR
