BEGIN:VCALENDAR
VERSION:2.0
PRODID:-//www.thearcofsomerset.org//NONSGML kigkonsult.se iCalcreator 2.30.
 10//
CALSCALE:GREGORIAN
METHOD:PUBLISH
UID:96b76d43-90cd-424c-b9ab-3e52ce5c16d2
X-WR-CALDESC:Spend time catching up with friends whom are both virtual and 
 in-person so that we can keep up our community connections on a variety of
  topics that are important to us and just to say 'HI!'. \n
X-WR-RELCALID:d83a846e2be9dd48a48218a61ec5cc57
X-WR-TIMEZONE:America/New_York
BEGIN:VTIMEZONE
TZID:America/New_York
BEGIN:STANDARD
TZNAME:EST
DTSTART:20211107T020000
TZOFFSETFROM:-0400
TZOFFSETTO:-0500
RDATE:20221106T020000
END:STANDARD
BEGIN:DAYLIGHT
TZNAME:EDT
DTSTART:20210314T020000
TZOFFSETFROM:-0500
TZOFFSETTO:-0400
RDATE:20220313T020000
RDATE:20230312T020000
END:DAYLIGHT
END:VTIMEZONE
BEGIN:VEVENT
UID:0d56d561-cc0e-4dbc-be57-e2fb9c3c05a4
DTSTAMP:20260425T120231Z
DESCRIPTION:Spend time catching up with friends whom are both virtual and i
 n-person so that we can keep up our community connections on a variety of 
 topics that are important to us and just to say 'HI!'. \n
DTSTART;TZID=America/New_York:20211102T153000
DTEND;TZID=America/New_York:20211102T160000
LOCATION:
SUMMARY:Shooting the Breeze with Friends
END:VEVENT
END:VCALENDAR
