BEGIN:VCALENDAR
VERSION:2.0
PRODID:-//www.thearcofsomerset.org//NONSGML kigkonsult.se iCalcreator 2.30.
 10//
CALSCALE:GREGORIAN
METHOD:PUBLISH
UID:0c6c4896-6cf5-46c3-b6d3-29ee9966976b
X-WR-CALDESC:Talent Show
X-WR-RELCALID:92a0d3e4ce2b0b7c4b3936c56764e262
X-WR-TIMEZONE:America/New_York
BEGIN:VTIMEZONE
TZID:America/New_York
BEGIN:STANDARD
TZNAME:EST
DTSTART:20211107T020000
TZOFFSETFROM:-0400
TZOFFSETTO:-0500
RDATE:20221106T020000
END:STANDARD
BEGIN:DAYLIGHT
TZNAME:EDT
DTSTART:20210314T020000
TZOFFSETFROM:-0500
TZOFFSETTO:-0400
RDATE:20220313T020000
RDATE:20230312T020000
END:DAYLIGHT
END:VTIMEZONE
BEGIN:VEVENT
UID:f2e215f4-93b2-4029-89a6-01c56b9265bb
DTSTAMP:20260425T115726Z
DESCRIPTION:Talent Show
DTSTART;TZID=America/New_York:20211117T183000
DTEND;TZID=America/New_York:20211117T200000
LOCATION:
SUMMARY:The Arc's Got Talent
END:VEVENT
END:VCALENDAR
