BEGIN:VCALENDAR
VERSION:2.0
PRODID:-//www.thearcofsomerset.org//NONSGML kigkonsult.se iCalcreator 2.30.
 10//
CALSCALE:GREGORIAN
METHOD:PUBLISH
UID:a5113408-7fdb-43b0-9515-fe9789700fa5
X-WR-CALDESC:3:30 to 4:00 - Shooting the Breeze with Friends\n\nSpend time 
 catching up with friends whom are both virtual and in-person so that we ca
 n keep up our community connections on a variety of topics that are import
 ant to us and just to say 'HI!'. \n
X-WR-RELCALID:33e85256368a5630bdba6d493b2f0b05
X-WR-TIMEZONE:America/New_York
BEGIN:VTIMEZONE
TZID:America/New_York
BEGIN:STANDARD
TZNAME:EST
DTSTART:20211107T020000
TZOFFSETFROM:-0400
TZOFFSETTO:-0500
RDATE:20221106T020000
END:STANDARD
BEGIN:DAYLIGHT
TZNAME:EDT
DTSTART:20210314T020000
TZOFFSETFROM:-0500
TZOFFSETTO:-0400
RDATE:20220313T020000
RDATE:20230312T020000
END:DAYLIGHT
END:VTIMEZONE
BEGIN:VEVENT
UID:1cca35a8-9073-4d66-9b39-2e8fe9af3c1a
DTSTAMP:20260425T120352Z
DESCRIPTION:3:30 to 4:00 - Shooting the Breeze with Friends\n\nSpend time c
 atching up with friends whom are both virtual and in-person so that we can
  keep up our community connections on a variety of topics that are importa
 nt to us and just to say 'HI!'. \n
DTSTART;TZID=America/New_York:20211123T153000
DTEND;TZID=America/New_York:20211123T160000
LOCATION:
SUMMARY:Shooting the Breeze with Friends
END:VEVENT
END:VCALENDAR
