BEGIN:VCALENDAR
VERSION:2.0
PRODID:-//www.thearcofsomerset.org//NONSGML kigkonsult.se iCalcreator 2.30.
 10//
CALSCALE:GREGORIAN
METHOD:PUBLISH
UID:9f5c6aa4-87f8-4838-a36d-243b38d57e7f
X-WR-CALDESC:Join musicians and those whom just enjoy music for this varied
  music programs featuring guest musicians on a variety of instruments such
  as guitar\, piano\, voice\, harmonica\, accordion. Participants are encou
 raged to sing\, clap\, dance to the music or just smile\, make comments an
 d enjoy a good musical time with friends!\n
X-WR-RELCALID:e6f336dcf30ed8bfa859b1ba81a9a55b
X-WR-TIMEZONE:America/New_York
BEGIN:VTIMEZONE
TZID:America/New_York
BEGIN:STANDARD
TZNAME:EST
DTSTART:20211107T020000
TZOFFSETFROM:-0400
TZOFFSETTO:-0500
RDATE:20221106T020000
END:STANDARD
BEGIN:DAYLIGHT
TZNAME:EDT
DTSTART:20210314T020000
TZOFFSETFROM:-0500
TZOFFSETTO:-0400
RDATE:20220313T020000
RDATE:20230312T020000
END:DAYLIGHT
END:VTIMEZONE
BEGIN:VEVENT
UID:9545b109-7133-458a-a92c-c14beeac1806
DTSTAMP:20260425T120352Z
DESCRIPTION:Join musicians and those whom just enjoy music for this varied 
 music programs featuring guest musicians on a variety of instruments such 
 as guitar\, piano\, voice\, harmonica\, accordion. Participants are encour
 aged to sing\, clap\, dance to the music or just smile\, make comments and
  enjoy a good musical time with friends!\n
DTSTART;TZID=America/New_York:20211123T130000
DTEND;TZID=America/New_York:20211123T133000
LOCATION:
SUMMARY:Music for Hope & Inspiration: Dance Party & Name That Tune
END:VEVENT
END:VCALENDAR
