BEGIN:VCALENDAR
VERSION:2.0
PRODID:-//www.thearcofsomerset.org//NONSGML kigkonsult.se iCalcreator 2.30.
 10//
CALSCALE:GREGORIAN
METHOD:PUBLISH
UID:9b221f08-1659-42a1-87f5-984029239f32
X-WR-CALDESC:
X-WR-RELCALID:2dc5350e40355d4f0ea68feb86729325
X-WR-TIMEZONE:America/New_York
BEGIN:VTIMEZONE
TZID:America/New_York
BEGIN:STANDARD
TZNAME:EST
DTSTART:20211107T020000
TZOFFSETFROM:-0400
TZOFFSETTO:-0500
RDATE:20221106T020000
END:STANDARD
BEGIN:DAYLIGHT
TZNAME:EDT
DTSTART:20210314T020000
TZOFFSETFROM:-0500
TZOFFSETTO:-0400
RDATE:20220313T020000
RDATE:20230312T020000
END:DAYLIGHT
END:VTIMEZONE
BEGIN:VEVENT
UID:9a24932f-8e33-41da-bf61-12e36d8f17b4
DTSTAMP:20260425T115644Z
DESCRIPTION:
DTSTART;TZID=America/New_York:20211125T000000
DTEND;TZID=America/New_York:20211126T235900
LOCATION:
SUMMARY:Happy Thanksgiving: No Classes
END:VEVENT
END:VCALENDAR
