BEGIN:VCALENDAR
VERSION:2.0
PRODID:-//www.thearcofsomerset.org//NONSGML kigkonsult.se iCalcreator 2.30.
 10//
CALSCALE:GREGORIAN
METHOD:PUBLISH
UID:a259822b-eed7-4bc1-8ca8-89cbad919852
X-WR-CALDESC:3:30 to 4:00 - Shooting the Breeze with Friends\n\nSpend time 
 catching up with friends whom are both virtual and in-person so that we ca
 n keep up our community connections on a variety of topics that are import
 ant to us and just to say 'HI!'. \n
X-WR-RELCALID:4f83db18a078188b9d5b0efb9020599f
X-WR-TIMEZONE:America/New_York
BEGIN:VTIMEZONE
TZID:America/New_York
BEGIN:STANDARD
TZNAME:EST
DTSTART:20211107T020000
TZOFFSETFROM:-0400
TZOFFSETTO:-0500
RDATE:20221106T020000
END:STANDARD
BEGIN:DAYLIGHT
TZNAME:EDT
DTSTART:20210314T020000
TZOFFSETFROM:-0500
TZOFFSETTO:-0400
RDATE:20220313T020000
RDATE:20230312T020000
END:DAYLIGHT
END:VTIMEZONE
BEGIN:VEVENT
UID:2e26f67c-ee3c-4973-9834-8806142eb12d
DTSTAMP:20260425T102244Z
DESCRIPTION:3:30 to 4:00 - Shooting the Breeze with Friends\n\nSpend time c
 atching up with friends whom are both virtual and in-person so that we can
  keep up our community connections on a variety of topics that are importa
 nt to us and just to say 'HI!'. \n
DTSTART;TZID=America/New_York:20211207T153000
DTEND;TZID=America/New_York:20211207T160000
LOCATION:
SUMMARY:Shooting the Breeze with Friends
END:VEVENT
END:VCALENDAR
