BEGIN:VCALENDAR
VERSION:2.0
PRODID:-//www.thearcofsomerset.org//NONSGML kigkonsult.se iCalcreator 2.30.
 10//
CALSCALE:GREGORIAN
METHOD:PUBLISH
UID:53024451-c3fb-4e01-9b49-4119e6b2ffa7
X-WR-CALDESC:3:30 to 4:00 - Shooting the Breeze with Friends\n\nSpend time 
 catching up with friends whom are both virtual and in-person so that we ca
 n keep up our community connections on a variety of topics that are import
 ant to us and just to say 'HI!'. \n
X-WR-RELCALID:e4b1b9eb25bf0daba329ead34e8ed36b
X-WR-TIMEZONE:America/New_York
BEGIN:VTIMEZONE
TZID:America/New_York
BEGIN:STANDARD
TZNAME:EST
DTSTART:20211107T020000
TZOFFSETFROM:-0400
TZOFFSETTO:-0500
RDATE:20221106T020000
END:STANDARD
BEGIN:DAYLIGHT
TZNAME:EDT
DTSTART:20210314T020000
TZOFFSETFROM:-0500
TZOFFSETTO:-0400
RDATE:20220313T020000
RDATE:20230312T020000
END:DAYLIGHT
END:VTIMEZONE
BEGIN:VEVENT
UID:daa7f0f6-daf8-4d76-b786-de700f6be20d
DTSTAMP:20260425T102123Z
DESCRIPTION:3:30 to 4:00 - Shooting the Breeze with Friends\n\nSpend time c
 atching up with friends whom are both virtual and in-person so that we can
  keep up our community connections on a variety of topics that are importa
 nt to us and just to say 'HI!'. \n
DTSTART;TZID=America/New_York:20211221T153000
DTEND;TZID=America/New_York:20211221T160000
LOCATION:
SUMMARY:Shooting the Breeze with Friends
END:VEVENT
END:VCALENDAR
