BEGIN:VCALENDAR
VERSION:2.0
PRODID:-//www.thearcofsomerset.org//NONSGML kigkonsult.se iCalcreator 2.30.
 10//
CALSCALE:GREGORIAN
METHOD:PUBLISH
UID:6c95d524-5388-4d89-8d5f-62a6c420e6a8
X-WR-CALDESC:Share your experiences with stress and/or anxiety. Discuss cop
 ing skills and how to use them. \n
X-WR-RELCALID:c75e55eab092609bfcad02db53ab2172
X-WR-TIMEZONE:America/New_York
BEGIN:VTIMEZONE
TZID:America/New_York
BEGIN:STANDARD
TZNAME:EST
DTSTART:20211107T020000
TZOFFSETFROM:-0400
TZOFFSETTO:-0500
RDATE:20221106T020000
END:STANDARD
BEGIN:DAYLIGHT
TZNAME:EDT
DTSTART:20220313T020000
TZOFFSETFROM:-0500
TZOFFSETTO:-0400
RDATE:20230312T020000
END:DAYLIGHT
END:VTIMEZONE
BEGIN:VEVENT
UID:e4865b2c-ef82-47ff-98dc-150e0af302a8
DTSTAMP:20260425T032013Z
DESCRIPTION:Share your experiences with stress and/or anxiety. Discuss copi
 ng skills and how to use them. \n
DTSTART;TZID=America/New_York:20220425T111500
DTEND;TZID=America/New_York:20220425T234500
LOCATION:
SUMMARY:Stressbusters
END:VEVENT
END:VCALENDAR
