BEGIN:VCALENDAR
VERSION:2.0
PRODID:-//www.thearcofsomerset.org//NONSGML kigkonsult.se iCalcreator 2.30.
 10//
CALSCALE:GREGORIAN
METHOD:PUBLISH
UID:aea4d8db-876d-439f-932c-ac15cd039bd4
X-WR-CALDESC:3:00 to 3:30 - Shooting the Breeze with Friends\n\nSpend time 
 catching up with friends whom are both virtual and in-person so that we ca
 n keep up our community connections on a variety of topics that are import
 ant to us and just to say 'HI!'. \n
X-WR-RELCALID:68e537621133dccdc8a6474097fe5783
X-WR-TIMEZONE:America/New_York
BEGIN:VTIMEZONE
TZID:America/New_York
BEGIN:STANDARD
TZNAME:EST
DTSTART:20211107T020000
TZOFFSETFROM:-0400
TZOFFSETTO:-0500
RDATE:20221106T020000
END:STANDARD
BEGIN:DAYLIGHT
TZNAME:EDT
DTSTART:20220313T020000
TZOFFSETFROM:-0500
TZOFFSETTO:-0400
RDATE:20230312T020000
END:DAYLIGHT
END:VTIMEZONE
BEGIN:VEVENT
UID:51fcc9d5-fabd-462a-afde-c350480084f1
DTSTAMP:20260425T032621Z
DESCRIPTION:3:00 to 3:30 - Shooting the Breeze with Friends\n\nSpend time c
 atching up with friends whom are both virtual and in-person so that we can
  keep up our community connections on a variety of topics that are importa
 nt to us and just to say 'HI!'. \n
DTSTART;TZID=America/New_York:20220426T150000
DTEND;TZID=America/New_York:20220426T153000
LOCATION:
SUMMARY:Shooting the Breeze with Friends
END:VEVENT
END:VCALENDAR
