BEGIN:VCALENDAR
VERSION:2.0
PRODID:-//www.thearcofsomerset.org//NONSGML kigkonsult.se iCalcreator 2.30.
 10//
CALSCALE:GREGORIAN
METHOD:PUBLISH
UID:5c656a23-b14f-4a81-a675-e4060db2c7ef
X-WR-CALDESC:Enjoy a relaxing start to the week with Jane and friends with 
 yoga.  Yoga poses can be done seated or in standing based upon ability lev
 el. \n
X-WR-RELCALID:4c034075ca1a4a6ef17f4c6aa7b4709c
X-WR-TIMEZONE:America/New_York
BEGIN:VTIMEZONE
TZID:America/New_York
BEGIN:STANDARD
TZNAME:EST
DTSTART:20211107T020000
TZOFFSETFROM:-0400
TZOFFSETTO:-0500
RDATE:20221106T020000
END:STANDARD
BEGIN:DAYLIGHT
TZNAME:EDT
DTSTART:20220313T020000
TZOFFSETFROM:-0500
TZOFFSETTO:-0400
RDATE:20230312T020000
END:DAYLIGHT
END:VTIMEZONE
BEGIN:VEVENT
UID:bced54b5-34e1-443a-a1db-ac0852ee441e
DTSTAMP:20260425T015242Z
DESCRIPTION:Enjoy a relaxing start to the week with Jane and friends with y
 oga.  Yoga poses can be done seated or in standing based upon ability leve
 l. \n
DTSTART;TZID=America/New_York:20220502T130000
DTEND;TZID=America/New_York:20220502T133000
LOCATION:
SUMMARY:Yoga with Jane
END:VEVENT
END:VCALENDAR
