BEGIN:VCALENDAR
VERSION:2.0
PRODID:-//www.thearcofsomerset.org//NONSGML kigkonsult.se iCalcreator 2.30.
 10//
CALSCALE:GREGORIAN
METHOD:PUBLISH
UID:b36dc101-1673-4701-a8c0-0e01c902e497
X-WR-CALDESC:Share your experiences with stress and/or anxiety. Discuss cop
 ing skills and how to use them. \n
X-WR-RELCALID:09f29ddef2980e4d8bdf3501e7ee5a63
X-WR-TIMEZONE:America/New_York
BEGIN:VTIMEZONE
TZID:America/New_York
BEGIN:STANDARD
TZNAME:EST
DTSTART:20211107T020000
TZOFFSETFROM:-0400
TZOFFSETTO:-0500
RDATE:20221106T020000
RDATE:20231105T020000
END:STANDARD
BEGIN:DAYLIGHT
TZNAME:EDT
DTSTART:20220313T020000
TZOFFSETFROM:-0500
TZOFFSETTO:-0400
RDATE:20230312T020000
END:DAYLIGHT
END:VTIMEZONE
BEGIN:VEVENT
UID:545519d1-fc79-4de4-adcb-841a803bb016
DTSTAMP:20260425T014542Z
DESCRIPTION:Share your experiences with stress and/or anxiety. Discuss copi
 ng skills and how to use them. \n
DTSTART;TZID=America/New_York:20220516T111500
DTEND;TZID=America/New_York:20220516T234500
LOCATION:
SUMMARY:Stressbusters
END:VEVENT
END:VCALENDAR
