BEGIN:VCALENDAR
VERSION:2.0
PRODID:-//www.thearcofsomerset.org//NONSGML kigkonsult.se iCalcreator 2.30.
 10//
CALSCALE:GREGORIAN
METHOD:PUBLISH
UID:7405f430-91db-413f-8218-a15e295c3720
X-WR-CALDESC:Share your experiences with stress and/or anxiety. Discuss cop
 ing skills and how to use them. \n
X-WR-RELCALID:36dc965b5f393cf5e2ad78b3c2ddf4d3
X-WR-TIMEZONE:America/New_York
BEGIN:VTIMEZONE
TZID:America/New_York
BEGIN:STANDARD
TZNAME:EST
DTSTART:20211107T020000
TZOFFSETFROM:-0400
TZOFFSETTO:-0500
RDATE:20221106T020000
RDATE:20231105T020000
END:STANDARD
BEGIN:DAYLIGHT
TZNAME:EDT
DTSTART:20220313T020000
TZOFFSETFROM:-0500
TZOFFSETTO:-0400
RDATE:20230312T020000
END:DAYLIGHT
END:VTIMEZONE
BEGIN:VEVENT
UID:368c4609-f920-4e0a-bf4d-40befe6772c4
DTSTAMP:20260425T014558Z
DESCRIPTION:Share your experiences with stress and/or anxiety. Discuss copi
 ng skills and how to use them. \n
DTSTART;TZID=America/New_York:20220523T111500
DTEND;TZID=America/New_York:20220523T234500
LOCATION:
SUMMARY:Stressbusters
END:VEVENT
END:VCALENDAR
