BEGIN:VCALENDAR
VERSION:2.0
PRODID:-//www.thearcofsomerset.org//NONSGML kigkonsult.se iCalcreator 2.30.
 10//
CALSCALE:GREGORIAN
METHOD:PUBLISH
UID:5244aa98-d0b9-44ac-a636-b449532c2496
X-WR-CALDESC:Enjoy a relaxing start to the week with Jane and friends with 
 yoga.  Yoga poses can be done seated or in standing based upon ability lev
 el. \n
X-WR-RELCALID:1464afa1c72cd6b69e7e5cc2d76b3200
X-WR-TIMEZONE:America/New_York
BEGIN:VTIMEZONE
TZID:America/New_York
BEGIN:STANDARD
TZNAME:EST
DTSTART:20211107T020000
TZOFFSETFROM:-0400
TZOFFSETTO:-0500
RDATE:20221106T020000
RDATE:20231105T020000
END:STANDARD
BEGIN:DAYLIGHT
TZNAME:EDT
DTSTART:20220313T020000
TZOFFSETFROM:-0500
TZOFFSETTO:-0400
RDATE:20230312T020000
END:DAYLIGHT
END:VTIMEZONE
BEGIN:VEVENT
UID:a0dd530b-173f-4b0d-b88f-8487e75ba597
DTSTAMP:20260425T015055Z
DESCRIPTION:Enjoy a relaxing start to the week with Jane and friends with y
 oga.  Yoga poses can be done seated or in standing based upon ability leve
 l. \n
DTSTART;TZID=America/New_York:20220530T130000
DTEND;TZID=America/New_York:20220530T133000
LOCATION:
SUMMARY:Yoga with Jane
END:VEVENT
END:VCALENDAR
