BEGIN:VCALENDAR
VERSION:2.0
PRODID:-//www.thearcofsomerset.org//NONSGML kigkonsult.se iCalcreator 2.30.
 10//
CALSCALE:GREGORIAN
METHOD:PUBLISH
UID:65ef28b1-64e5-4847-ac11-97cec26aecde
X-WR-CALDESC:Enjoy a relaxing start to the week with Jane and friends with 
 yoga.  Yoga poses can be done seated or in standing based upon ability lev
 el. \n
X-WR-RELCALID:d4bc35153530b029f4b550a30ba707ca
X-WR-TIMEZONE:America/New_York
BEGIN:VTIMEZONE
TZID:America/New_York
BEGIN:STANDARD
TZNAME:EST
DTSTART:20211107T020000
TZOFFSETFROM:-0400
TZOFFSETTO:-0500
RDATE:20221106T020000
RDATE:20231105T020000
END:STANDARD
BEGIN:DAYLIGHT
TZNAME:EDT
DTSTART:20220313T020000
TZOFFSETFROM:-0500
TZOFFSETTO:-0400
RDATE:20230312T020000
END:DAYLIGHT
END:VTIMEZONE
BEGIN:VEVENT
UID:4e0862fc-9182-4954-ae2a-d5da9b101df3
DTSTAMP:20260425T001623Z
DESCRIPTION:Enjoy a relaxing start to the week with Jane and friends with y
 oga.  Yoga poses can be done seated or in standing based upon ability leve
 l. \n
DTSTART;TZID=America/New_York:20220620T130000
DTEND;TZID=America/New_York:20220620T133000
LOCATION:
SUMMARY:Yoga with Jane
END:VEVENT
END:VCALENDAR
