BEGIN:VCALENDAR
VERSION:2.0
PRODID:-//www.thearcofsomerset.org//NONSGML kigkonsult.se iCalcreator 2.30.
 10//
CALSCALE:GREGORIAN
METHOD:PUBLISH
UID:1754e619-72f2-464b-86ab-1f16474d9a56
X-WR-CALDESC:Share your experiences with stress and/or anxiety. Discuss cop
 ing skills and how to use them. \n
X-WR-RELCALID:ab8c184bfabe9a2047e84624a2b30625
X-WR-TIMEZONE:America/New_York
BEGIN:VTIMEZONE
TZID:America/New_York
BEGIN:STANDARD
TZNAME:EST
DTSTART:20211107T020000
TZOFFSETFROM:-0400
TZOFFSETTO:-0500
RDATE:20221106T020000
RDATE:20231105T020000
END:STANDARD
BEGIN:DAYLIGHT
TZNAME:EDT
DTSTART:20220313T020000
TZOFFSETFROM:-0500
TZOFFSETTO:-0400
RDATE:20230312T020000
END:DAYLIGHT
END:VTIMEZONE
BEGIN:VEVENT
UID:6296c25c-c0e3-4da2-83b6-f83c9050df68
DTSTAMP:20260425T000927Z
DESCRIPTION:Share your experiences with stress and/or anxiety. Discuss copi
 ng skills and how to use them. \n
DTSTART;TZID=America/New_York:20220627T111500
DTEND;TZID=America/New_York:20220627T234500
LOCATION:
SUMMARY:Stressbusters
END:VEVENT
END:VCALENDAR
