BEGIN:VCALENDAR
VERSION:2.0
PRODID:-//www.thearcofsomerset.org//NONSGML kigkonsult.se iCalcreator 2.30.
 10//
CALSCALE:GREGORIAN
METHOD:PUBLISH
UID:16605a78-ae20-4120-8607-d51b6fed8e9a
X-WR-CALDESC:Enjoy a relaxing start to the week with Jane and friends with 
 yoga.  Yoga poses can be done seated or in standing based upon ability lev
 el. \n
X-WR-RELCALID:9ece45f5514334c45f8da8ee41a768cc
X-WR-TIMEZONE:America/New_York
BEGIN:VTIMEZONE
TZID:America/New_York
BEGIN:STANDARD
TZNAME:EST
DTSTART:20211107T020000
TZOFFSETFROM:-0400
TZOFFSETTO:-0500
RDATE:20221106T020000
RDATE:20231105T020000
END:STANDARD
BEGIN:DAYLIGHT
TZNAME:EDT
DTSTART:20220313T020000
TZOFFSETFROM:-0500
TZOFFSETTO:-0400
RDATE:20230312T020000
END:DAYLIGHT
END:VTIMEZONE
BEGIN:VEVENT
UID:ed7b232d-b227-4276-8809-51aff40fa14a
DTSTAMP:20260425T001525Z
DESCRIPTION:Enjoy a relaxing start to the week with Jane and friends with y
 oga.  Yoga poses can be done seated or in standing based upon ability leve
 l. \n
DTSTART;TZID=America/New_York:20220627T130000
DTEND;TZID=America/New_York:20220627T133000
LOCATION:
SUMMARY:Yoga with Jane
END:VEVENT
END:VCALENDAR
