BEGIN:VCALENDAR
VERSION:2.0
PRODID:-//www.thearcofsomerset.org//NONSGML kigkonsult.se iCalcreator 2.30.
 10//
CALSCALE:GREGORIAN
METHOD:PUBLISH
UID:04e4c827-039a-40a7-98c8-a708e6905431
X-WR-CALDESC:3:00 to 3:30 - Shooting the Breeze with Friends\n\nSpend time 
 catching up with friends whom are both virtual and in-person so that we ca
 n keep up our community connections on a variety of topics that are import
 ant to us and just to say 'HI!'. \n
X-WR-RELCALID:d2fad69c14018822fac08bbd49cbc5a7
X-WR-TIMEZONE:America/New_York
BEGIN:VTIMEZONE
TZID:America/New_York
BEGIN:STANDARD
TZNAME:EST
DTSTART:20211107T020000
TZOFFSETFROM:-0400
TZOFFSETTO:-0500
RDATE:20221106T020000
RDATE:20231105T020000
END:STANDARD
BEGIN:DAYLIGHT
TZNAME:EDT
DTSTART:20220313T020000
TZOFFSETFROM:-0500
TZOFFSETTO:-0400
RDATE:20230312T020000
END:DAYLIGHT
END:VTIMEZONE
BEGIN:VEVENT
UID:a4b1d620-edbd-436b-bcbb-665243af4a53
DTSTAMP:20260425T001714Z
DESCRIPTION:3:00 to 3:30 - Shooting the Breeze with Friends\n\nSpend time c
 atching up with friends whom are both virtual and in-person so that we can
  keep up our community connections on a variety of topics that are importa
 nt to us and just to say 'HI!'. \n
DTSTART;TZID=America/New_York:20220628T150000
DTEND;TZID=America/New_York:20220628T153000
LOCATION:
SUMMARY:Shooting the Breeze with Friends
END:VEVENT
END:VCALENDAR
