BEGIN:VCALENDAR
VERSION:2.0
PRODID:-//www.thearcofsomerset.org//NONSGML kigkonsult.se iCalcreator 2.30.
 10//
CALSCALE:GREGORIAN
METHOD:PUBLISH
UID:41273f86-4c5e-4a6d-a5c2-d401493e5105
X-WR-CALDESC:Enjoy a relaxing start to the week with Jane and friends with 
 yoga.  Yoga poses can be done seated or in standing based upon ability lev
 el. \n
X-WR-RELCALID:9f2dabbfaac901cd8ecb16586ec48ea6
X-WR-TIMEZONE:America/New_York
BEGIN:VTIMEZONE
TZID:America/New_York
BEGIN:STANDARD
TZNAME:EST
DTSTART:20211107T020000
TZOFFSETFROM:-0400
TZOFFSETTO:-0500
RDATE:20221106T020000
RDATE:20231105T020000
END:STANDARD
BEGIN:DAYLIGHT
TZNAME:EDT
DTSTART:20220313T020000
TZOFFSETFROM:-0500
TZOFFSETTO:-0400
RDATE:20230312T020000
END:DAYLIGHT
END:VTIMEZONE
BEGIN:VEVENT
UID:12445147-e926-4d6c-a9ff-b081ed2842c0
DTSTAMP:20260424T222745Z
DESCRIPTION:Enjoy a relaxing start to the week with Jane and friends with y
 oga.  Yoga poses can be done seated or in standing based upon ability leve
 l. \n
DTSTART;TZID=America/New_York:20220725T130000
DTEND;TZID=America/New_York:20220725T133000
LOCATION:
SUMMARY:Yoga with Jane
END:VEVENT
END:VCALENDAR
