BEGIN:VCALENDAR
VERSION:2.0
PRODID:-//www.thearcofsomerset.org//NONSGML kigkonsult.se iCalcreator 2.30.
 10//
CALSCALE:GREGORIAN
METHOD:PUBLISH
UID:ad6303a3-fe8b-47d4-b051-5bd99cc5c790
X-WR-CALDESC:Share your experiences with stress and/or anxiety. Discuss cop
 ing skills and how to use them. \n
X-WR-RELCALID:ccaa93b1f364100bda005f6366561e1c
X-WR-TIMEZONE:America/New_York
BEGIN:VTIMEZONE
TZID:America/New_York
BEGIN:STANDARD
TZNAME:EST
DTSTART:20211107T020000
TZOFFSETFROM:-0400
TZOFFSETTO:-0500
RDATE:20221106T020000
RDATE:20231105T020000
END:STANDARD
BEGIN:DAYLIGHT
TZNAME:EDT
DTSTART:20220313T020000
TZOFFSETFROM:-0500
TZOFFSETTO:-0400
RDATE:20230312T020000
END:DAYLIGHT
END:VTIMEZONE
BEGIN:VEVENT
UID:4ab4d925-0050-49d6-abe6-0d0394efc270
DTSTAMP:20260424T205104Z
DESCRIPTION:Share your experiences with stress and/or anxiety. Discuss copi
 ng skills and how to use them. \n
DTSTART;TZID=America/New_York:20220815T111500
DTEND;TZID=America/New_York:20220815T234500
LOCATION:
SUMMARY:Stressbusters
END:VEVENT
END:VCALENDAR
