BEGIN:VCALENDAR
VERSION:2.0
PRODID:-//www.thearcofsomerset.org//NONSGML kigkonsult.se iCalcreator 2.30.
 10//
CALSCALE:GREGORIAN
METHOD:PUBLISH
UID:5c0859ea-e0d8-4b09-baf2-422df1a82f4f
X-WR-CALDESC:
X-WR-RELCALID:981b7bd19068672090801d606ee574f0
X-WR-TIMEZONE:America/New_York
BEGIN:VTIMEZONE
TZID:America/New_York
BEGIN:STANDARD
TZNAME:EST
DTSTART:20211107T020000
TZOFFSETFROM:-0400
TZOFFSETTO:-0500
RDATE:20221106T020000
RDATE:20231105T020000
END:STANDARD
BEGIN:DAYLIGHT
TZNAME:EDT
DTSTART:20220313T020000
TZOFFSETFROM:-0500
TZOFFSETTO:-0400
RDATE:20230312T020000
END:DAYLIGHT
END:VTIMEZONE
BEGIN:VEVENT
UID:e48114f2-c735-42ef-baf5-d8b72f69367a
DTSTAMP:20260424T191805Z
DESCRIPTION:
DTSTART;TZID=America/New_York:20220902T100000
DTEND;TZID=America/New_York:20220902T140000
LOCATION:
SUMMARY:Manville Library
END:VEVENT
END:VCALENDAR
