BEGIN:VCALENDAR
VERSION:2.0
PRODID:-//www.thearcofsomerset.org//NONSGML kigkonsult.se iCalcreator 2.30.
 10//
CALSCALE:GREGORIAN
METHOD:PUBLISH
UID:e4db9f03-8eb5-4a03-808e-5c866bc23c71
X-WR-CALDESC:Join musicians and those whom just enjoy music for this varied
  music programs featuring guest musicians on a variety of instruments such
  as guitar\, piano\, voice\, harmonica\, accordion. Participants are encou
 raged to sing\, clap\, dance to the music or just smile\, make comments an
 d enjoy a good musical time with friends!\n
X-WR-RELCALID:174eb430f1e54cf2352ce21d4a64a856
X-WR-TIMEZONE:America/New_York
BEGIN:VTIMEZONE
TZID:America/New_York
BEGIN:STANDARD
TZNAME:EST
DTSTART:20211107T020000
TZOFFSETFROM:-0400
TZOFFSETTO:-0500
RDATE:20221106T020000
RDATE:20231105T020000
END:STANDARD
BEGIN:DAYLIGHT
TZNAME:EDT
DTSTART:20220313T020000
TZOFFSETFROM:-0500
TZOFFSETTO:-0400
RDATE:20230312T020000
RDATE:20240310T020000
END:DAYLIGHT
END:VTIMEZONE
BEGIN:VEVENT
UID:c9b23bea-aafe-4ca3-959b-c1b078b0497d
DTSTAMP:20260424T191935Z
DESCRIPTION:Join musicians and those whom just enjoy music for this varied 
 music programs featuring guest musicians on a variety of instruments such 
 as guitar\, piano\, voice\, harmonica\, accordion. Participants are encour
 aged to sing\, clap\, dance to the music or just smile\, make comments and
  enjoy a good musical time with friends!\n
DTSTART;TZID=America/New_York:20220920T130000
DTEND;TZID=America/New_York:20220920T140000
LOCATION:
SUMMARY:Music for Hope & Inspiration: Coffeehouse Project
END:VEVENT
END:VCALENDAR
