BEGIN:VCALENDAR
VERSION:2.0
PRODID:-//www.thearcofsomerset.org//NONSGML kigkonsult.se iCalcreator 2.30.
 10//
CALSCALE:GREGORIAN
METHOD:PUBLISH
UID:0ae2d4ab-f90e-4056-a40d-b6a14722b613
X-WR-CALDESC:
X-WR-RELCALID:f485f4eccb682d712f521cb32ea6bc60
X-WR-TIMEZONE:America/New_York
BEGIN:VTIMEZONE
TZID:America/New_York
BEGIN:STANDARD
TZNAME:EST
DTSTART:20211107T020000
TZOFFSETFROM:-0400
TZOFFSETTO:-0500
RDATE:20221106T020000
RDATE:20231105T020000
END:STANDARD
BEGIN:DAYLIGHT
TZNAME:EDT
DTSTART:20220313T020000
TZOFFSETFROM:-0500
TZOFFSETTO:-0400
RDATE:20230312T020000
RDATE:20240310T020000
END:DAYLIGHT
END:VTIMEZONE
BEGIN:VEVENT
UID:b6641444-47ce-49c9-8fd4-c371a2d186b7
DTSTAMP:20260424T173208Z
DESCRIPTION:
DTSTART;TZID=America/New_York:20221007T100000
DTEND;TZID=America/New_York:20221007T140000
LOCATION:
SUMMARY:Manville Library
END:VEVENT
END:VCALENDAR
