BEGIN:VCALENDAR
VERSION:2.0
PRODID:-//www.thearcofsomerset.org//NONSGML kigkonsult.se iCalcreator 2.30.
 10//
CALSCALE:GREGORIAN
METHOD:PUBLISH
UID:e0b91f8b-1a0d-4001-8921-ab0a66b1f8f0
X-WR-CALDESC:
X-WR-RELCALID:7f77c454e9988064b696254e4777620a
X-WR-TIMEZONE:America/New_York
BEGIN:VTIMEZONE
TZID:America/New_York
BEGIN:STANDARD
TZNAME:EST
DTSTART:20211107T020000
TZOFFSETFROM:-0400
TZOFFSETTO:-0500
RDATE:20221106T020000
RDATE:20231105T020000
END:STANDARD
BEGIN:DAYLIGHT
TZNAME:EDT
DTSTART:20220313T020000
TZOFFSETFROM:-0500
TZOFFSETTO:-0400
RDATE:20230312T020000
RDATE:20240310T020000
END:DAYLIGHT
END:VTIMEZONE
BEGIN:VEVENT
UID:eb8e35ff-0a2c-470c-8098-85afe20e1ef5
DTSTAMP:20260424T173129Z
DESCRIPTION:
DTSTART;TZID=America/New_York:20221021T100000
DTEND;TZID=America/New_York:20221021T140000
LOCATION:
SUMMARY:Manville Library
END:VEVENT
END:VCALENDAR
