BEGIN:VCALENDAR
VERSION:2.0
PRODID:-//www.thearcofsomerset.org//NONSGML kigkonsult.se iCalcreator 2.30.
 10//
CALSCALE:GREGORIAN
METHOD:PUBLISH
UID:c4503b72-8229-48c3-97df-9a1034cdbebd
X-WR-CALDESC:
X-WR-RELCALID:57629a98ad24d05746cc68888ca1bebf
X-WR-TIMEZONE:America/New_York
BEGIN:VTIMEZONE
TZID:America/New_York
BEGIN:STANDARD
TZNAME:EST
DTSTART:20211107T020000
TZOFFSETFROM:-0400
TZOFFSETTO:-0500
RDATE:20221106T020000
RDATE:20231105T020000
END:STANDARD
BEGIN:DAYLIGHT
TZNAME:EDT
DTSTART:20220313T020000
TZOFFSETFROM:-0500
TZOFFSETTO:-0400
RDATE:20230312T020000
RDATE:20240310T020000
END:DAYLIGHT
END:VTIMEZONE
BEGIN:VEVENT
UID:cfad24f5-db60-49f1-b18e-a65d86fd930a
DTSTAMP:20260424T173323Z
DESCRIPTION:
DTSTART;TZID=America/New_York:20221028T100000
DTEND;TZID=America/New_York:20221028T140000
LOCATION:
SUMMARY:Manville Library
END:VEVENT
END:VCALENDAR
