BEGIN:VCALENDAR
VERSION:2.0
PRODID:-//www.thearcofsomerset.org//NONSGML kigkonsult.se iCalcreator 2.30.
 10//
CALSCALE:GREGORIAN
METHOD:PUBLISH
UID:68b738f0-e908-466d-a3b1-70b7130007d4
X-WR-CALDESC:
X-WR-RELCALID:a6071a0a9ee64cb71e49eb5fd1d93b8d
X-WR-TIMEZONE:America/New_York
BEGIN:VTIMEZONE
TZID:America/New_York
BEGIN:STANDARD
TZNAME:EST
DTSTART:20221106T020000
TZOFFSETFROM:-0400
TZOFFSETTO:-0500
RDATE:20231105T020000
END:STANDARD
BEGIN:DAYLIGHT
TZNAME:EDT
DTSTART:20220313T020000
TZOFFSETFROM:-0500
TZOFFSETTO:-0400
RDATE:20230312T020000
RDATE:20240310T020000
END:DAYLIGHT
END:VTIMEZONE
BEGIN:VEVENT
UID:618ffd76-f1b0-4158-8590-48e312dfb5aa
DTSTAMP:20260424T155006Z
DESCRIPTION:
DTSTART;TZID=America/New_York:20221125T000000
DTEND;TZID=America/New_York:20221125T235900
LOCATION:
SUMMARY:Program Closed
END:VEVENT
END:VCALENDAR
