BEGIN:VCALENDAR
VERSION:2.0
PRODID:-//www.thearcofsomerset.org//NONSGML kigkonsult.se iCalcreator 2.30.
 10//
CALSCALE:GREGORIAN
METHOD:PUBLISH
UID:191be095-cb19-4179-adc3-950edf7451b7
X-WR-CALDESC:
X-WR-RELCALID:b7b1ac9451ad25ff123f1f242f86be18
X-WR-TIMEZONE:America/New_York
BEGIN:VTIMEZONE
TZID:America/New_York
BEGIN:STANDARD
TZNAME:EST
DTSTART:20231105T020000
TZOFFSETFROM:-0400
TZOFFSETTO:-0500
RDATE:20241103T020000
RDATE:20251102T020000
END:STANDARD
BEGIN:DAYLIGHT
TZNAME:EDT
DTSTART:20240310T020000
TZOFFSETFROM:-0500
TZOFFSETTO:-0400
RDATE:20250309T020000
RDATE:20260308T020000
END:DAYLIGHT
END:VTIMEZONE
BEGIN:VEVENT
UID:17d2aa70-7e39-4509-b1fc-12a7275b3f23
DTSTAMP:20260422T222844Z
DESCRIPTION:
DTSTART;TZID=America/New_York:20240913T170000
DTEND;TZID=America/New_York:20240915T150000
LOCATION:51 Old Stirling Rd\, Warren\, NJ 07059 US
SUMMARY:Camp Fall Respite Weekend #2
END:VEVENT
END:VCALENDAR
